BEGIN:VCALENDAR
VERSION:2.0
PRODID:-//MLP//ical//EN
TIMEZONE-ID:Europe/Berlin
X-WR-TIMEZONE:Europe/Berlin
BEGIN:VEVENT
UID:rb1b@events.mlp.de
SEQUENCE:0
DTSTAMP:20260420T181858Z
DTSTART:20260430T163000Z
DTEND:20260430T183000Z
SUMMARY:Financial Education Workshop
LOCATION:\n    HT Vechta 01\,\n\n    Füchteler Str. 5\,\n\n    49377 Vecht
 a\n    
DESCRIPTION:Zur An-/Abmeldung und weiteren Informationen:\nevents.mlp.de/e
 vents/y_7eksptcm/financial-education-workshop
END:VEVENT
END:VCALENDAR