BEGIN:VCALENDAR
VERSION:2.0
PRODID:-//MLP//ical//EN
TIMEZONE-ID:Europe/Berlin
X-WR-TIMEZONE:Europe/Berlin
BEGIN:VEVENT
UID:z1qa@events.mlp.de
SEQUENCE:0
DTSTAMP:20260424T134531Z
DTSTART:20260508T163000Z
DTEND:20260508T180000Z
SUMMARY:Endlich Arzt – Abenteuer Berufsstart
DESCRIPTION:Zur An-/Abmeldung und weiteren Informationen:\nevents.mlp.de/e
 vents/xdle28owqq/endlich-arzt-abenteuer-berufsstart
END:VEVENT
END:VCALENDAR