BEGIN:VCALENDAR
VERSION:2.0
PRODID:-//MLP//ical//EN
TIMEZONE-ID:Europe/Berlin
X-WR-TIMEZONE:Europe/Berlin
BEGIN:VEVENT
UID:bzo7@events.mlp.de
SEQUENCE:0
DTSTAMP:20260423T161144Z
DTSTART:20260423T143000Z
DTEND:20260423T163000Z
SUMMARY:Steuerseminar für Studenten
DESCRIPTION:Zur An-/Abmeldung und weiteren Informationen:\nevents.mlp.de/e
 vents/wbcs26clbq/steuerseminar-fuer-studenten
END:VEVENT
END:VCALENDAR