BEGIN:VCALENDAR
VERSION:2.0
PRODID:-//MLP//ical//EN
TIMEZONE-ID:Europe/Berlin
X-WR-TIMEZONE:Europe/Berlin
BEGIN:VEVENT
UID:se15@events.mlp.de
SEQUENCE:0
DTSTAMP:20260423T181634Z
DTSTART:20260423T163000Z
DTEND:20260423T180000Z
SUMMARY:Gehaltsverhandlungsseminar für Berufseinsteiger
DESCRIPTION:Zur An-/Abmeldung und weiteren Informationen:\nevents.mlp.de/e
 vents/ujkrefenue/gehaltsverhandlungsseminar-fuer-berufseinsteiger
END:VEVENT
END:VCALENDAR