BEGIN:VCALENDAR
VERSION:2.0
PRODID:-//MLP//ical//EN
TIMEZONE-ID:Europe/Berlin
X-WR-TIMEZONE:Europe/Berlin
BEGIN:VEVENT
UID:xh9z@events.mlp.de
SEQUENCE:0
DTSTAMP:20260422T173721Z
DTSTART:20260506T163000Z
DTEND:20260506T183000Z
SUMMARY:Endlich Arzt – Abenteuer Berufsstart
DESCRIPTION:Zur An-/Abmeldung und weiteren Informationen:\nevents.mlp.de/e
 vents/u2yswig3jf/endlich-arzt-abenteuer-berufsstart
END:VEVENT
END:VCALENDAR