BEGIN:VCALENDAR
VERSION:2.0
PRODID:-//MLP//ical//EN
TIMEZONE-ID:Europe/Berlin
X-WR-TIMEZONE:Europe/Berlin
BEGIN:VEVENT
UID:1eoc@events.mlp.de
SEQUENCE:0
DTSTAMP:20260422T173711Z
DTSTART:20260601T163000Z
DTEND:20260601T183000Z
SUMMARY:Endlich Arzt – Abenteuer Berufsstart
DESCRIPTION:Zur An-/Abmeldung und weiteren Informationen:\nevents.mlp.de/e
 vents/tfzdz90wxw/endlich-arzt-abenteuer-berufsstart
END:VEVENT
END:VCALENDAR