BEGIN:VCALENDAR
VERSION:2.0
PRODID:-//MLP//ical//EN
TIMEZONE-ID:Europe/Berlin
X-WR-TIMEZONE:Europe/Berlin
BEGIN:VEVENT
UID:erhf@events.mlp.de
SEQUENCE:0
DTSTAMP:20260421T074223Z
DTSTART:20260626T130000Z
DTEND:20260626T150000Z
SUMMARY:Excelseminar - Vom EinZeller zum EXCELperten
DESCRIPTION:Zur An-/Abmeldung und weiteren Informationen:\nevents.mlp.de/e
 vents/t3iggok1_1/excelseminar-vom-einzeller-zum-excelperten
END:VEVENT
END:VCALENDAR