BEGIN:VCALENDAR
VERSION:2.0
PRODID:-//MLP//ical//EN
TIMEZONE-ID:Europe/Berlin
X-WR-TIMEZONE:Europe/Berlin
BEGIN:VEVENT
UID:wawj@events.mlp.de
SEQUENCE:0
DTSTAMP:20260421T152905Z
DTSTART:20260421T143000Z
DTEND:20260421T173000Z
SUMMARY:Financial Education Workshop
LOCATION:\n    HT Würzburg 01\,\n\n    Schweinfurter Straße 7\,\n\n    970
 80 Würzburg\n    
DESCRIPTION:Zur An-/Abmeldung und weiteren Informationen:\nevents.mlp.de/e
 vents/r_xaxlbdv1/financial-education-workshop
END:VEVENT
END:VCALENDAR