BEGIN:VCALENDAR
VERSION:2.0
PRODID:-//MLP//ical//EN
TIMEZONE-ID:Europe/Berlin
X-WR-TIMEZONE:Europe/Berlin
BEGIN:VEVENT
UID:htuq@events.mlp.de
SEQUENCE:0
DTSTAMP:20260422T173705Z
DTSTART:20260611T163000Z
DTEND:20260611T183000Z
SUMMARY:Famulatur und PJ im Ausland
DESCRIPTION:Zur An-/Abmeldung und weiteren Informationen:\nevents.mlp.de/e
 vents/r8vb2-iumg/famulatur-und-pj-im-ausland
END:VEVENT
END:VCALENDAR