BEGIN:VCALENDAR
VERSION:2.0
PRODID:-//MLP//ical//EN
TIMEZONE-ID:Europe/Berlin
X-WR-TIMEZONE:Europe/Berlin
BEGIN:VEVENT
UID:2eff@events.mlp.de
SEQUENCE:0
DTSTAMP:20260420T215917Z
DTSTART:20260421T070000Z
DTEND:20260421T090000Z
SUMMARY:Financial Education Workshop
DESCRIPTION:Zur An-/Abmeldung und weiteren Informationen:\nevents.mlp.de/e
 vents/r4vokng08z/financial-education-workshop
END:VEVENT
END:VCALENDAR