BEGIN:VCALENDAR
VERSION:2.0
PRODID:-//MLP//ical//EN
TIMEZONE-ID:Europe/Berlin
X-WR-TIMEZONE:Europe/Berlin
BEGIN:VEVENT
UID:jygd@events.mlp.de
SEQUENCE:0
DTSTAMP:20260420T180732Z
DTSTART:20260429T160000Z
DTEND:20260429T180000Z
SUMMARY:Famulatur und PJ im Ausland
DESCRIPTION:Zur An-/Abmeldung und weiteren Informationen:\nevents.mlp.de/e
 vents/r2azhaajug/famulatur-und-pj-im-ausland
END:VEVENT
END:VCALENDAR