BEGIN:VCALENDAR
VERSION:2.0
PRODID:-//MLP//ical//EN
TIMEZONE-ID:Europe/Berlin
X-WR-TIMEZONE:Europe/Berlin
BEGIN:VEVENT
UID:6wym@events.mlp.de
SEQUENCE:0
DTSTAMP:20260421T133544Z
DTSTART:20260429T080000Z
DTEND:20260429T103000Z
SUMMARY:Steuerseminar für Studenten
DESCRIPTION:Zur An-/Abmeldung und weiteren Informationen:\nevents.mlp.de/e
 vents/pjf8p_acbs/steuerseminar-fuer-studenten
END:VEVENT
END:VCALENDAR