BEGIN:VCALENDAR
VERSION:2.0
PRODID:-//MLP//ical//EN
TIMEZONE-ID:Europe/Berlin
X-WR-TIMEZONE:Europe/Berlin
BEGIN:VEVENT
UID:nhq6@events.mlp.de
SEQUENCE:0
DTSTAMP:20260422T173706Z
DTSTART:20260617T163000Z
DTEND:20260617T183000Z
SUMMARY:Endlich Arzt – Abenteuer Berufsstart
DESCRIPTION:Zur An-/Abmeldung und weiteren Informationen:\nevents.mlp.de/e
 vents/o7nt-ehevf/endlich-arzt-abenteuer-berufsstart
END:VEVENT
END:VCALENDAR