BEGIN:VCALENDAR
VERSION:2.0
PRODID:-//MLP//ical//EN
TIMEZONE-ID:Europe/Berlin
X-WR-TIMEZONE:Europe/Berlin
BEGIN:VEVENT
UID:xy1l@events.mlp.de
SEQUENCE:0
DTSTAMP:20260420T151436Z
DTSTART:20260420T140000Z
DTEND:20260420T160000Z
SUMMARY:Excelseminar - Vom EinZeller zum EXCELperten
DESCRIPTION:Zur An-/Abmeldung und weiteren Informationen:\nevents.mlp.de/e
 vents/n9ubovjmvr/excelseminar-vom-einzeller-zum-excelperten
END:VEVENT
END:VCALENDAR