BEGIN:VCALENDAR
VERSION:2.0
PRODID:-//MLP//ical//EN
TIMEZONE-ID:Europe/Berlin
X-WR-TIMEZONE:Europe/Berlin
BEGIN:VEVENT
UID:fh0e@events.mlp.de
SEQUENCE:0
DTSTAMP:20260423T214329Z
DTSTART:20260514T080000Z
DTEND:20260514T103000Z
SUMMARY:Bewerbungstraining
DESCRIPTION:Zur An-/Abmeldung und weiteren Informationen:\nevents.mlp.de/e
 vents/n1rey5wxbb/bewerbungstraining
END:VEVENT
END:VCALENDAR