BEGIN:VCALENDAR
VERSION:2.0
PRODID:-//MLP//ical//EN
TIMEZONE-ID:Europe/Berlin
X-WR-TIMEZONE:Europe/Berlin
BEGIN:VEVENT
UID:32xh@events.mlp.de
SEQUENCE:0
DTSTAMP:20260422T140650Z
DTSTART:20260511T150000Z
DTEND:20260511T170000Z
SUMMARY:Steuerseminar für Studenten
DESCRIPTION:Zur An-/Abmeldung und weiteren Informationen:\nevents.mlp.de/e
 vents/mo-r_116gh/steuerseminar-fuer-studenten
END:VEVENT
END:VCALENDAR