BEGIN:VCALENDAR
VERSION:2.0
PRODID:-//MLP//ical//EN
TIMEZONE-ID:Europe/Berlin
X-WR-TIMEZONE:Europe/Berlin
BEGIN:VEVENT
UID:fx2f@events.mlp.de
SEQUENCE:0
DTSTAMP:20260420T133900Z
DTSTART:20260422T110000Z
DTEND:20260422T130000Z
SUMMARY:Financial Education Workshop
DESCRIPTION:Zur An-/Abmeldung und weiteren Informationen:\nevents.mlp.de/e
 vents/m6v5ins3vw/financial-education-workshop
END:VEVENT
END:VCALENDAR