BEGIN:VCALENDAR
VERSION:2.0
PRODID:-//MLP//ical//EN
TIMEZONE-ID:Europe/Berlin
X-WR-TIMEZONE:Europe/Berlin
BEGIN:VEVENT
UID:udx3@events.mlp.de
SEQUENCE:0
DTSTAMP:20260421T141114Z
DTSTART:20260422T120000Z
DTEND:20260422T140000Z
SUMMARY:Thesis Guide - in Null Komma nix zur persönlichen Bestnote!
DESCRIPTION:Zur An-/Abmeldung und weiteren Informationen:\nevents.mlp.de/e
 vents/lp6iyhzv7j/thesis-guide-in-null-komma-nix-zur-persoenlichen-bestnote
END:VEVENT
END:VCALENDAR