BEGIN:VCALENDAR
VERSION:2.0
PRODID:-//MLP//ical//EN
TIMEZONE-ID:Europe/Berlin
X-WR-TIMEZONE:Europe/Berlin
BEGIN:VEVENT
UID:jqbz@events.mlp.de
SEQUENCE:0
DTSTAMP:20260423T153254Z
DTSTART:20260423T150000Z
DTEND:20260423T170000Z
SUMMARY:Steuerseminar für Studenten
DESCRIPTION:Zur An-/Abmeldung und weiteren Informationen:\nevents.mlp.de/e
 vents/kb9wnvrhm8/steuerseminar-fuer-studenten
END:VEVENT
END:VCALENDAR