BEGIN:VCALENDAR
VERSION:2.0
PRODID:-//MLP//ical//EN
TIMEZONE-ID:Europe/Berlin
X-WR-TIMEZONE:Europe/Berlin
BEGIN:VEVENT
UID:qv57@events.mlp.de
SEQUENCE:0
DTSTAMP:20260422T091943Z
DTSTART:20260422T160000Z
DTEND:20260422T180000Z
SUMMARY:Financial Education Workshop
DESCRIPTION:Zur An-/Abmeldung und weiteren Informationen:\nevents.mlp.de/e
 vents/i09z6qdm4v/financial-education-workshop
END:VEVENT
END:VCALENDAR