BEGIN:VCALENDAR
VERSION:2.0
PRODID:-//MLP//ical//EN
TIMEZONE-ID:Europe/Berlin
X-WR-TIMEZONE:Europe/Berlin
BEGIN:VEVENT
UID:ps3b@events.mlp.de
SEQUENCE:0
DTSTAMP:20260422T180610Z
DTSTART:20260515T133000Z
DTEND:20260515T153000Z
SUMMARY:Abenteuer Referendariat
DESCRIPTION:Zur An-/Abmeldung und weiteren Informationen:\nevents.mlp.de/e
 vents/hldkswq09d/abenteuer-referendariat
END:VEVENT
END:VCALENDAR