BEGIN:VCALENDAR
VERSION:2.0
PRODID:-//MLP//ical//EN
TIMEZONE-ID:Europe/Berlin
X-WR-TIMEZONE:Europe/Berlin
BEGIN:VEVENT
UID:jma5@events.mlp.de
SEQUENCE:0
DTSTAMP:20260421T192625Z
DTSTART:20260430T130000Z
DTEND:20260430T150000Z
SUMMARY:Excelseminar - Vom EinZeller zum EXCELperten
DESCRIPTION:Zur An-/Abmeldung und weiteren Informationen:\nevents.mlp.de/e
 vents/gk7w_wpc_x/excelseminar-vom-einzeller-zum-excelperten
END:VEVENT
END:VCALENDAR