BEGIN:VCALENDAR
VERSION:2.0
PRODID:-//MLP//ical//EN
TIMEZONE-ID:Europe/Berlin
X-WR-TIMEZONE:Europe/Berlin
BEGIN:VEVENT
UID:5wfz@events.mlp.de
SEQUENCE:0
DTSTAMP:20260422T083626Z
DTSTART:20260430T150000Z
DTEND:20260430T170000Z
SUMMARY:Thesis Guide - in Null Komma nix zur persönlichen Bestnote!
DESCRIPTION:Zur An-/Abmeldung und weiteren Informationen:\nevents.mlp.de/e
 vents/e63gxvo6dp/thesis-guide-in-null-komma-nix-zur-persoenlichen-bestnote
END:VEVENT
END:VCALENDAR