BEGIN:VCALENDAR
VERSION:2.0
PRODID:-//MLP//ical//EN
TIMEZONE-ID:Europe/Berlin
X-WR-TIMEZONE:Europe/Berlin
BEGIN:VEVENT
UID:ptwl@events.mlp.de
SEQUENCE:0
DTSTAMP:20260422T145536Z
DTSTART:20260511T160000Z
DTEND:20260511T180000Z
SUMMARY:Krankenversicherung für Mediziner
LOCATION:\n    Rostock I\,\n\n    Grubenstraße 48\,\n\n    18055 Rostock\n
     
DESCRIPTION:Zur An-/Abmeldung und weiteren Informationen:\nevents.mlp.de/e
 vents/dykoidbocj/krankenversicherung-fuer-mediziner
END:VEVENT
END:VCALENDAR