BEGIN:VCALENDAR
VERSION:2.0
PRODID:-//MLP//ical//EN
TIMEZONE-ID:Europe/Berlin
X-WR-TIMEZONE:Europe/Berlin
BEGIN:VEVENT
UID:vvsk@events.mlp.de
SEQUENCE:0
DTSTAMP:20260425T204531Z
DTSTART:20260427T180000Z
DTEND:20260427T215959Z
SUMMARY:Bewerbungstraining
DESCRIPTION:Zur An-/Abmeldung und weiteren Informationen:\nevents.mlp.de/e
 vents/dmppy_ruxx/bewerbungstraining
END:VEVENT
END:VCALENDAR