BEGIN:VCALENDAR
VERSION:2.0
PRODID:-//MLP//ical//EN
TIMEZONE-ID:Europe/Berlin
X-WR-TIMEZONE:Europe/Berlin
BEGIN:VEVENT
UID:7was@events.mlp.de
SEQUENCE:0
DTSTAMP:20260423T101939Z
DTSTART:20260423T080000Z
DTEND:20260423T100000Z
SUMMARY:Thesis Guide - in Null Komma nix zur persönlichen Bestnote!
DESCRIPTION:Zur An-/Abmeldung und weiteren Informationen:\nevents.mlp.de/e
 vents/bfjvt_mbxy/thesis-guide-in-null-komma-nix-zur-persoenlichen-bestnote
END:VEVENT
END:VCALENDAR