BEGIN:VCALENDAR
VERSION:2.0
PRODID:-//MLP//ical//EN
TIMEZONE-ID:Europe/Berlin
X-WR-TIMEZONE:Europe/Berlin
BEGIN:VEVENT
UID:5tdb@events.mlp.de
SEQUENCE:0
DTSTAMP:20260420T064534Z
DTSTART:20260610T140000Z
DTEND:20260610T160000Z
SUMMARY:Financial Education Workshop
DESCRIPTION:Zur An-/Abmeldung und weiteren Informationen:\nevents.mlp.de/e
 vents/9tbpcqgmng/financial-education-workshop
END:VEVENT
END:VCALENDAR