BEGIN:VCALENDAR
VERSION:2.0
PRODID:-//MLP//ical//EN
TIMEZONE-ID:Europe/Berlin
X-WR-TIMEZONE:Europe/Berlin
BEGIN:VEVENT
UID:tiqr@events.mlp.de
SEQUENCE:0
DTSTAMP:20260419T143339Z
DTSTART:20260803T160000Z
DTEND:20260803T183000Z
SUMMARY:Der Weg in die Niederlassung für Ärztinnen und Ärzte (ONLINE)
DESCRIPTION:Zur An-/Abmeldung und weiteren Informationen:\nevents.mlp.de/e
 vents/7bkoqzgxxe/der-weg-in-die-niederlassung-fuer-arztinnen-und-arzte-onl
 ine
END:VEVENT
END:VCALENDAR