BEGIN:VCALENDAR
VERSION:2.0
PRODID:-//MLP//ical//EN
TIMEZONE-ID:Europe/Berlin
X-WR-TIMEZONE:Europe/Berlin
BEGIN:VEVENT
UID:bcv6@events.mlp.de
SEQUENCE:0
DTSTAMP:20260420T155402Z
DTSTART:20260615T150000Z
DTEND:20260615T170000Z
SUMMARY:Abenteuer Referendariat
LOCATION:\n    HT Osnabrück 02\,\n\n    Neumarkt 9-10\,\n\n    49074 Osnab
 rück\n    
DESCRIPTION:Zur An-/Abmeldung und weiteren Informationen:\nevents.mlp.de/e
 vents/4xxmrvjer_/abenteuer-referendariat
END:VEVENT
END:VCALENDAR