BEGIN:VCALENDAR
VERSION:2.0
PRODID:-//MLP//ical//EN
TIMEZONE-ID:Europe/Berlin
X-WR-TIMEZONE:Europe/Berlin
BEGIN:VEVENT
UID:n6gm@events.mlp.de
SEQUENCE:0
DTSTAMP:20260420T234147Z
DTSTART:20260421T090000Z
DTEND:20260421T215959Z
SUMMARY:Excelseminar - Vom EinZeller zum EXCELperten
DESCRIPTION:Zur An-/Abmeldung und weiteren Informationen:\nevents.mlp.de/e
 vents/3h8t9-ezi_/excelseminar-vom-einzeller-zum-excelperten
END:VEVENT
END:VCALENDAR