BEGIN:VCALENDAR
VERSION:2.0
PRODID:-//MLP//ical//EN
TIMEZONE-ID:Europe/Berlin
X-WR-TIMEZONE:Europe/Berlin
BEGIN:VEVENT
UID:kqem@events.mlp.de
SEQUENCE:0
DTSTAMP:20260420T155530Z
DTSTART:20260420T160000Z
DTEND:20260420T180000Z
SUMMARY:Excelseminar - Vom EinZeller zum EXCELperten
DESCRIPTION:Zur An-/Abmeldung und weiteren Informationen:\nevents.mlp.de/e
 vents/3h4e2neaia/excelseminar-vom-einzeller-zum-excelperten
END:VEVENT
END:VCALENDAR