BEGIN:VCALENDAR
VERSION:2.0
PRODID:-//MLP//ical//EN
TIMEZONE-ID:Europe/Berlin
X-WR-TIMEZONE:Europe/Berlin
BEGIN:VEVENT
UID:i32h@events.mlp.de
SEQUENCE:0
DTSTAMP:20260423T112936Z
DTSTART:20260424T140000Z
DTEND:20260424T160000Z
SUMMARY:Excelseminar - Vom EinZeller zum EXCELperten
DESCRIPTION:Zur An-/Abmeldung und weiteren Informationen:\nevents.mlp.de/e
 vents/-c6x5k5eoa/excelseminar-vom-einzeller-zum-excelperten
END:VEVENT
END:VCALENDAR